BEGIN:VCALENDAR
VERSION:2.0
PRODID:DPCALENDAR
CALSCALE:GREGORIAN
X-WR-TIMEZONE:UTC
BEGIN:VEVENT
DTSTART;TZID=UTC:20251115T133000
DTEND;TZID=UTC:20251115T190000
UID:97328301-2486-41CB-8AB9-21051A09048C
SUMMARY:Echinger Vereine-Schießen
CREATED:20241229T181257Z
DTSTAMP:20241229T181257Z
URL:https://www.esc-eching.de/termine/echinger-vereine-schiessen-3
DESCRIPTION:gemäß Einladung
X-ALT-DESC;FMTTYPE=text/html:<p>gemäß Einladung</p>
LAST-MODIFIED:20251113T185015Z
SEQUENCE:27563838
LOCATION:Zankenhauser Str. 100\, 82279  Eching am Ammersee
GEO:48.08565890;11.11499500
X-LOCATION-DISPLAYNAME:Schützenheim Seerose
X-ACCESS:1
X-HITS:0
X-COLOR:949494
X-SHOW-END-TIME:0
END:VEVENT
BEGIN:VEVENT
DTSTART;TZID=UTC:20261114T133000
DTEND;TZID=UTC:20261114T190000
UID:96C61998-0B7D-4D87-A9DF-FBEC927E49B2
SUMMARY:Echinger Vereine-Schießen
CREATED:20241229T181257Z
DTSTAMP:20241229T181257Z
URL:https://www.esc-eching.de/termine/echinger-vereine-schiessen-2026
DESCRIPTION:gemäß Einladung
X-ALT-DESC;FMTTYPE=text/html:<p>gemäß Einladung</p>
LAST-MODIFIED:20260105T093432Z
SEQUENCE:32109695
LOCATION:Zankenhauser Str. 100\, 82279  Eching am Ammersee
GEO:48.08565890;11.11499500
X-LOCATION-DISPLAYNAME:Schützenheim Seerose
X-ACCESS:1
X-HITS:0
X-COLOR:949494
X-SHOW-END-TIME:0
END:VEVENT
END:VCALENDAR