BEGIN:VCALENDAR
VERSION:2.0
PRODID:DPCALENDAR
CALSCALE:GREGORIAN
X-WR-TIMEZONE:UTC
BEGIN:VEVENT
DTSTART;TZID=UTC:20231225T190000
DTEND;TZID=UTC:20231225T200000
UID:318EDE5A-E1E8-4188-9DBA-8C84F3AD3562
SUMMARY:Schlittschuhlauf zu Weihnachten
CREATED:20231129T193355Z
DTSTAMP:20231129T193355Z
URL:https://www.esc-eching.de/termine/schlittschuhlauf-zu-weihnachten
DESCRIPTION:Vorausgesetzt, dass der See eine tragfähige Eisfläche hat (Testtermin)
X-ALT-DESC;FMTTYPE=text/html:<p>Vorausgesetzt, dass der See eine tragfähige Eisfläche hat (Testtermin)</p>
LAST-MODIFIED:20231206T155022Z
SEQUENCE:591387
X-ACCESS:1
X-HITS:0
X-COLOR:006303
X-SHOW-END-TIME:1
END:VEVENT
BEGIN:VEVENT
DTSTART;TZID=UTC:20250427T110000
DTEND;TZID=UTC:20250427T160000
UID:1807EB62-EBE1-4012-B9E9-ABAEE8D461F3
SUMMARY:Optis auslagern und 1. Training
CREATED:20250402T200221Z
DTSTAMP:20250402T200221Z
URL:https://www.esc-eching.de/termine/optis-auslagern-und-1-training
DESCRIPTION:Wir lagern die Optis aus, riggen auf, schauen, dass alles intakt und komplett ist und wenn es Wetter, Temperatur und Wind zulassen, wird die erste Runde gesegelt.
X-ALT-DESC;FMTTYPE=text/html:<p>Wir lagern die Optis aus, riggen auf, schauen, dass alles intakt und komplett ist und wenn es Wetter, Temperatur und Wind zulassen, wird die erste Runde gesegelt.</p>
LAST-MODIFIED:20250402T200243Z
SEQUENCE:22
X-ACCESS:1
X-HITS:0
X-COLOR:006303
X-SHOW-END-TIME:0
END:VEVENT
BEGIN:VEVENT
DTSTART;TZID=UTC:20250511T100000
DTEND;TZID=UTC:20250511T110000
UID:0E0A0D69-A4FC-4DAA-8098-6BA0909695F4
SUMMARY:2. Optitraining
CREATED:20250402T200612Z
DTSTAMP:20250402T200612Z
URL:https://www.esc-eching.de/termine/2-optitraining
LAST-MODIFIED:20250402T200732Z
SEQUENCE:80
X-ACCESS:1
X-HITS:0
X-COLOR:006303
X-SHOW-END-TIME:0
END:VEVENT
BEGIN:VEVENT
DTSTART;TZID=UTC:20250524T100000
DTEND;TZID=UTC:20250524T110000
UID:F11EA8AA-34E5-42B1-A8B0-626C89419C40
SUMMARY:3. Optitraining
CREATED:20250402T200832Z
DTSTAMP:20250402T200832Z
URL:https://www.esc-eching.de/termine/3-optitraining
LAST-MODIFIED:20250402T200832Z
SEQUENCE:0
X-ACCESS:1
X-HITS:0
X-COLOR:006303
X-SHOW-END-TIME:0
END:VEVENT
BEGIN:VEVENT
DTSTART;TZID=UTC:20250601T090000
DTEND;TZID=UTC:20250601T100000
UID:EF48D823-BA26-4D20-B588-CC70900C64A1
SUMMARY:Optiliga 1/4 (HSC)
CREATED:20250402T201015Z
DTSTAMP:20250402T201015Z
URL:https://www.esc-eching.de/termine/optiliga-1-4-hsc
DESCRIPTION:1. von 4 Optiliga-Regatta-Terminen in Herrsching a. Ammersee
X-ALT-DESC;FMTTYPE=text/html:<p>1. von 4 Optiliga-Regatta-Terminen in Herrsching a. Ammersee</p>
LAST-MODIFIED:20250402T201015Z
SEQUENCE:0
LOCATION:Mühlfeld 8\, 82211 Herrsching am Ammersee\, Bayern\, Deutschland
GEO:47.98957032;11.16843083
X-LOCATION-DISPLAYNAME:Herrschinger Segelclub
X-ACCESS:1
X-HITS:0
X-COLOR:006303
X-SHOW-END-TIME:0
END:VEVENT
BEGIN:VEVENT
DTSTART;TZID=UTC:20250629T090000
DTEND;TZID=UTC:20250629T100000
UID:E5AD81DE-80D2-4E82-8A39-55C135B29A20
SUMMARY:Optiliga 2/4 (SCIA)
CREATED:20250402T201135Z
DTSTAMP:20250402T201135Z
URL:https://www.esc-eching.de/termine/optiliga-2-4-scia
DESCRIPTION:2. von 4 Optiliga-Regatta-Terminen in Inning a. Ammersee
X-ALT-DESC;FMTTYPE=text/html:<p>2. von 4 Optiliga-Regatta-Terminen in Inning a. Ammersee</p>
LAST-MODIFIED:20250402T201135Z
SEQUENCE:0
LOCATION:Ammerseestraße 41\, 82266 Buch\, Bayern\, Deutschland
GEO:48.06236540;11.13677010
X-LOCATION-DISPLAYNAME:Segelclub Inning am Ammersee e.V.
X-ACCESS:1
X-HITS:0
X-COLOR:006303
X-SHOW-END-TIME:0
END:VEVENT
BEGIN:VEVENT
DTSTART;TZID=UTC:20250706T090000
DTEND;TZID=UTC:20250706T100000
UID:CD804377-F7BC-48C0-87EF-563FD7084050
SUMMARY:Optiliga 3/4 (SCP)
CREATED:20250402T201322Z
DTSTAMP:20250402T201322Z
URL:https://www.esc-eching.de/termine/optiliga-3-4-scp
LAST-MODIFIED:20250402T201322Z
SEQUENCE:0
LOCATION:Seefelder Straße\, 82211 Herrsching am Ammersee\, Bayern\, Deutschland
GEO:48.02445730;11.18894298
X-LOCATION-DISPLAYNAME:Pilsensee
X-ACCESS:1
X-HITS:0
X-COLOR:006303
X-SHOW-END-TIME:0
END:VEVENT
BEGIN:VEVENT
DTSTART;TZID=UTC:20250713T090000
DTEND;TZID=UTC:20250713T100000
UID:F1FE8B0E-B4F7-42DF-960A-FF0CA2DB9692
SUMMARY:Optiliga 4/4 (Wörthsee)
CREATED:20250402T201513Z
DTSTAMP:20250402T201513Z
URL:https://www.esc-eching.de/termine/optiliga-4-4-woerthsee
LAST-MODIFIED:20250402T201513Z
SEQUENCE:0
LOCATION:Rehsteig 15\, 82237 Steinebach am Wörthsee\, Bayern\, Deutschland
GEO:48.07274540;11.20017250
X-LOCATION-DISPLAYNAME:Wörthsee
X-ACCESS:1
X-HITS:0
X-COLOR:006303
X-SHOW-END-TIME:0
END:VEVENT
BEGIN:VEVENT
DTSTART;TZID=UTC:20250719T100000
DTEND;TZID=UTC:20250719T110000
UID:C551C36C-A815-4C0A-8B0D-342BA19D191F
SUMMARY:Optitraining mit Abnahme Jugendsegelschein
CREATED:20250402T201601Z
DTSTAMP:20250402T201601Z
URL:https://www.esc-eching.de/termine/optitraining-mit-abnahme-jugendsegelschein
LAST-MODIFIED:20250402T201601Z
SEQUENCE:0
X-ACCESS:1
X-HITS:0
X-COLOR:006303
X-SHOW-END-TIME:0
END:VEVENT
BEGIN:VEVENT
DTSTART;TZID=UTC:20250726T100000
DTEND;TZID=UTC:20250726T110000
UID:EEDCD710-0FAD-4ACE-9E20-270CD13E1BDF
SUMMARY:Sicherheitseinweisung mit der DLRG
CREATED:20250402T201702Z
DTSTAMP:20250402T201702Z
URL:https://www.esc-eching.de/termine/sicherheitseinweisung-mit-der-dlrg
DESCRIPTION:nähere Infos folgen.\NBei Interesse bitte an: juengstenwart@esc-eching.de
X-ALT-DESC;FMTTYPE=text/html:<p>nähere Infos folgen.</p><p>Bei Interesse bitte an: juengstenwart@esc-eching.de</p>
LAST-MODIFIED:20250402T201702Z
SEQUENCE:0
X-ACCESS:1
X-HITS:0
X-COLOR:006303
X-SHOW-END-TIME:0
END:VEVENT
BEGIN:VEVENT
DTSTART;TZID=UTC:20250802T100000
DTEND;TZID=UTC:20250803T110000
UID:83509468-8997-4722-BDB9-80C05D7E6110
SUMMARY:Optiwooling
CREATED:20250402T201756Z
DTSTAMP:20250402T201756Z
URL:https://www.esc-eching.de/termine/optiwooling
LAST-MODIFIED:20250402T201756Z
SEQUENCE:0
X-ACCESS:1
X-HITS:0
X-COLOR:006303
X-SHOW-END-TIME:0
END:VEVENT
BEGIN:VEVENT
DTSTART;TZID=UTC:20250927T100000
DTEND;TZID=UTC:20250927T110000
UID:53A3C148-C4EB-49EB-86DA-137B93682E82
SUMMARY:Optitraining
CREATED:20250402T201838Z
DTSTAMP:20250402T201838Z
URL:https://www.esc-eching.de/termine/optitraining
LAST-MODIFIED:20250402T201838Z
SEQUENCE:0
X-ACCESS:1
X-HITS:0
X-COLOR:006303
X-SHOW-END-TIME:0
END:VEVENT
BEGIN:VEVENT
DTSTART;TZID=UTC:20251011T100000
DTEND;TZID=UTC:20251011T110000
UID:0AD5C032-AE59-4E42-8745-329C5DCB5D61
SUMMARY:Einlagern Optis
CREATED:20250402T201910Z
DTSTAMP:20250402T201910Z
URL:https://www.esc-eching.de/termine/einlagern-optis
LAST-MODIFIED:20250402T201910Z
SEQUENCE:0
X-ACCESS:1
X-HITS:0
X-COLOR:006303
X-SHOW-END-TIME:0
END:VEVENT
END:VCALENDAR