BEGIN:VCALENDAR
VERSION:2.0
PRODID:DPCALENDAR
CALSCALE:GREGORIAN
X-WR-TIMEZONE:UTC
BEGIN:VEVENT
DTSTART;TZID=UTC:20240101T120000
DTEND;TZID=UTC:20240101T130000
UID:2ADBB959-51B2-4410-838E-CE70D1511C64
SUMMARY:Neujahrsschwimmen
CREATED:20231129T193307Z
DTSTAMP:20231129T193307Z
URL:https://www.esc-eching.de/termine/neujahrsschwimmen
DESCRIPTION:Einmal bis zur Tonne und zurück! (Testtermin)
X-ALT-DESC;FMTTYPE=text/html:<p>Einmal bis zur Tonne und zurück! (Testtermin)</p>
X-ACCESS:1
X-HITS:0
X-COLOR:00b80c
X-SHOW-END-TIME:0
END:VEVENT
BEGIN:VEVENT
DTSTART;TZID=UTC:20250330T103000
DTEND;TZID=UTC:20250330T123000
UID:E1975792-AA9A-4254-B4A1-43371F80A41C
SUMMARY:Jugendversammlung des ESC
CREATED:20250313T211302Z
DTSTAMP:20250313T211302Z
URL:https://www.esc-eching.de/termine/jugendversammlung-des-esc
DESCRIPTION:Eingeladen sind alle jugendlichen Mitglieder des ESC, die zwischen 15 und 27 sind (ab Jahrgang 2010).\N\NWir sammeln Ideen, Wünsche und planen geneinsam die kommende Segelsaison. Die Einladung ist per Email erfolgt. \NRückmeldungen oder Fragen bitte gerne an jugendwart@esc-eching.de\N \N 
X-ALT-DESC;FMTTYPE=text/html:<p>Eingeladen sind alle jugendlichen Mitglieder des ESC, die zwischen 15 und 27 sind (ab Jahrgang 2010).</p><hr id="system-readmore"><p>Wir sammeln Ideen, Wünsche und planen geneinsam die kommende Segelsaison. Die Einladung ist per Email erfolgt. </p><p>Rückmeldungen oder Fragen bitte gerne an <a href="mailto:jugendwart@esc-eching.de">jugendwart@esc-eching.de</a></p><p> </p><p> </p>
LAST-MODIFIED:20250329T145659Z
SEQUENCE:1359837
LOCATION:Erholungsgebiet 3\, 82279 Eching am Ammersee\, Bayern\, Deutschland
GEO:48.07044075;11.11099184
X-LOCATION-DISPLAYNAME:Clubhaus
X-ACCESS:1
X-HITS:0
X-COLOR:00b80c
X-SHOW-END-TIME:0
END:VEVENT
BEGIN:VEVENT
DTSTART;TZID=UTC:20260314T103000
DTEND;TZID=UTC:20260314T123000
UID:859A6FB4-3982-412C-B658-C4DF86887C9A
SUMMARY:Jugendversammlung des ESC
CREATED:20250313T211302Z
DTSTAMP:20250313T211302Z
URL:https://www.esc-eching.de/termine/jugendversammlung-des-esc-2026
DESCRIPTION:Eingeladen sind alle jugendlichen Mitglieder des ESC, die zwischen 12 und 27 sind (ab Jahrgang 2014).\N\NWir sammeln Ideen, Wünsche und planen geneinsam die kommende Segelsaison. Die Einladung erfolgt per Email (ggfs. an die Eltern).\NRückmeldungen oder Fragen bitte gerne an jugendwart@esc-eching.de\N \N 
X-ALT-DESC;FMTTYPE=text/html:<p>Eingeladen sind alle jugendlichen Mitglieder des ESC, die zwischen 12 und 27 sind (ab Jahrgang 2014).</p><hr id="system-readmore"><p>Wir sammeln Ideen, Wünsche und planen geneinsam die kommende Segelsaison. Die Einladung erfolgt per Email (ggfs. an die Eltern).</p><p>Rückmeldungen oder Fragen bitte gerne an <a href="mailto:jugendwart@esc-eching.de">jugendwart@esc-eching.de</a></p><p> </p><p> </p>
LAST-MODIFIED:20260302T164958Z
SEQUENCE:30569816
LOCATION:Erholungsgebiet 3\, 82279 Eching am Ammersee\, Bayern\, Deutschland
GEO:48.07044075;11.11099184
X-LOCATION-DISPLAYNAME:Clubhaus
X-ACCESS:1
X-HITS:0
X-COLOR:00b80c
X-SHOW-END-TIME:1
END:VEVENT
BEGIN:VEVENT
DTSTART;TZID=UTC:20260419T100000
DTEND;TZID=UTC:20260419T160000
UID:3587BFAC-4CA9-4B49-9359-4A0F2F356D97
SUMMARY:Jugendboote, Club-Boot, Optis auslagern
CREATED:20260315T150420Z
DTSTAMP:20260315T150420Z
URL:https://www.esc-eching.de/termine/jugendboote-club-boot-optis-auslagern
DESCRIPTION:Gemeinsame Jugend-, Jüngsten- und Club-Boot - Aktion: \NWir packen gemeinsam an:\N\NAuslagern der Jugendboote\NAuslagern und Aufbau Club-Bahia (Club-Boot-Gruppe)\NAuslagern, vorbereiten Optimisten\N
X-ALT-DESC;FMTTYPE=text/html:<p><strong>Gemeinsame Jugend-, Jüngsten- und Club-Boot - Aktion: </strong></p><p>Wir packen gemeinsam an:</p><ul><li>Auslagern der Jugendboote</li><li>Auslagern und Aufbau Club-Bahia (Club-Boot-Gruppe)</li><li>Auslagern, vorbereiten Optimisten</li></ul>
LAST-MODIFIED:20260410T200303Z
SEQUENCE:2264323
LOCATION:Erholungsgebiet 3\, 82279 Eching am Ammersee\, Bayern\, Deutschland
GEO:48.07044075;11.11099184
X-LOCATION-DISPLAYNAME:Clubgelände
X-ACCESS:1
X-HITS:0
X-COLOR:00b80c
X-SHOW-END-TIME:1
END:VEVENT
BEGIN:VEVENT
DTSTART;TZID=UTC:20260426T100000
DTEND;TZID=UTC:20260426T163000
UID:0D265D27-6E0D-43DE-B552-E00415CAA195
SUMMARY:1. Jugendtraining
CREATED:20260315T152702Z
DTSTAMP:20260315T152702Z
URL:https://www.esc-eching.de/termine/jugendtraining
DESCRIPTION:Jugendtraining mit Bootsaufbau, Boote kennenlernen, Theorie
X-ALT-DESC;FMTTYPE=text/html:<p>Jugendtraining mit Bootsaufbau, Boote kennenlernen, Theorie</p>
LAST-MODIFIED:20260410T200244Z
SEQUENCE:2262942
LOCATION:Erholungsgebiet 3\, 82279 Eching am Ammersee\, Bayern\, Deutschland
GEO:48.07044075;11.11099184
X-LOCATION-DISPLAYNAME:Clubgelände
X-ACCESS:1
X-HITS:0
X-COLOR:00b80c
X-SHOW-END-TIME:1
END:VEVENT
BEGIN:VEVENT
DTSTART;TZID=UTC:20260503T094500
DTEND;TZID=UTC:20260503T164500
UID:443E04E4-8165-493B-A8D4-B38BA3A15008
SUMMARY:2. Jugendtraining
CREATED:20260410T192048Z
DTSTAMP:20260410T192048Z
URL:https://www.esc-eching.de/termine/2-jugendtraining
DESCRIPTION:Optitraining\NJugend Theorie und Segeltraining\NAnfängerkurs
X-ALT-DESC;FMTTYPE=text/html:<p>Optitraining</p><p>Jugend Theorie und Segeltraining</p><p>Anfängerkurs</p>
LAST-MODIFIED:20260410T192532Z
SEQUENCE:284
LOCATION:Erholungsgebiet 3\, 82279 Eching am Ammersee\, Bayern\, Deutschland
GEO:48.07044075;11.11099184
X-LOCATION-DISPLAYNAME:Clubgelände
X-ACCESS:1
X-HITS:0
X-COLOR:00b80c
X-SHOW-END-TIME:1
END:VEVENT
BEGIN:VEVENT
DTSTART;TZID=UTC:20260517T094500
DTEND;TZID=UTC:20260517T164500
UID:1DFC94BC-6B41-4B61-869E-4DDF34A3F978
SUMMARY:3. Jugendtraining und Opti/ILCA-Liga
CREATED:20260410T193153Z
DTSTAMP:20260410T193153Z
URL:https://www.esc-eching.de/termine/jugendtraining-und-liga
DESCRIPTION:Opti-Liga am Herrschinger Segelclub\NJugend Theorie und Segeltraining zusammen mit fortgeschrittenen Optis\NAnfängerkurs
X-ALT-DESC;FMTTYPE=text/html:<p>Opti-Liga am Herrschinger Segelclub</p><p>Jugend Theorie und Segeltraining zusammen mit fortgeschrittenen Optis</p><p>Anfängerkurs</p>
LAST-MODIFIED:20260410T193549Z
SEQUENCE:236
LOCATION:Erholungsgebiet 3\, 82279 Eching am Ammersee\, Bayern\, Deutschland
GEO:48.07044075;11.11099184
X-LOCATION-DISPLAYNAME:Clubgelände
X-ACCESS:1
X-HITS:0
X-COLOR:00b80c
X-SHOW-END-TIME:1
END:VEVENT
BEGIN:VEVENT
DTSTART;TZID=UTC:20260614T094500
DTEND;TZID=UTC:20260614T164500
UID:2AFC7EF8-6733-4A6F-A447-604F461705F8
SUMMARY:4. Jugendtraining und Opti/ILCA-Liga
CREATED:20260410T193153Z
DTSTAMP:20260410T193153Z
URL:https://www.esc-eching.de/termine/jugendtraining-und-liga-2
DESCRIPTION:Opti-Liga am Wörthsee\NJugend Theorie und Segeltraining zusammen mit fortgeschrittenen Optis\NAnfängerkurs
X-ALT-DESC;FMTTYPE=text/html:<p>Opti-Liga am Wörthsee</p><p>Jugend Theorie und Segeltraining zusammen mit fortgeschrittenen Optis</p><p>Anfängerkurs</p>
LAST-MODIFIED:20260410T193637Z
SEQUENCE:284
LOCATION:Erholungsgebiet 3\, 82279 Eching am Ammersee\, Bayern\, Deutschland
GEO:48.07044075;11.11099184
X-LOCATION-DISPLAYNAME:Clubgelände
X-ACCESS:1
X-HITS:0
X-COLOR:00b80c
X-SHOW-END-TIME:1
END:VEVENT
BEGIN:VEVENT
DTSTART;TZID=UTC:20260628T094500
DTEND;TZID=UTC:20260628T164500
UID:00D957A8-7A70-4F9C-932A-C535F4CA8822
SUMMARY:5. Jugendtraining und Opti/ILCA-Liga
CREATED:20260410T193153Z
DTSTAMP:20260410T193153Z
URL:https://www.esc-eching.de/termine/jugendtraining-und-liga-3
DESCRIPTION:Opti-Liga am Segelclub Fischen (Aidenried)\NJugend Theorie und Segeltraining zusammen mit fortgeschrittenen Optis\NAnfängerkurs
X-ALT-DESC;FMTTYPE=text/html:<p>Opti-Liga am Segelclub Fischen (Aidenried)</p><p>Jugend Theorie und Segeltraining zusammen mit fortgeschrittenen Optis</p><p>Anfängerkurs</p>
LAST-MODIFIED:20260410T194346Z
SEQUENCE:713
LOCATION:Erholungsgebiet 3\, 82279 Eching am Ammersee\, Bayern\, Deutschland
GEO:48.07044075;11.11099184
X-LOCATION-DISPLAYNAME:Clubgelände
X-ACCESS:1
X-HITS:0
X-COLOR:00b80c
X-SHOW-END-TIME:1
END:VEVENT
BEGIN:VEVENT
DTSTART;TZID=UTC:20260712T094500
DTEND;TZID=UTC:20260712T164500
UID:BCA68DDF-8BE9-42A8-A3BE-21CEE34AF4A8
SUMMARY:6. Jugendtraining und Opti/ILCA-Liga
CREATED:20260410T193153Z
DTSTAMP:20260410T193153Z
URL:https://www.esc-eching.de/termine/jugendtraining-und-liga-4
DESCRIPTION:Opti-Liga am Segelclub Inning\NJugend Theorie und Segeltraining zusammen mit fortgeschrittenen Optis\NAnfängerkurs
X-ALT-DESC;FMTTYPE=text/html:<p>Opti-Liga am Segelclub Inning</p><p>Jugend Theorie und Segeltraining zusammen mit fortgeschrittenen Optis</p><p>Anfängerkurs</p>
LAST-MODIFIED:20260410T194800Z
SEQUENCE:967
LOCATION:Erholungsgebiet 3\, 82279 Eching am Ammersee\, Bayern\, Deutschland
GEO:48.07044075;11.11099184
X-LOCATION-DISPLAYNAME:Clubgelände
X-ACCESS:1
X-HITS:0
X-COLOR:00b80c
X-SHOW-END-TIME:1
END:VEVENT
BEGIN:VEVENT
DTSTART;TZID=UTC:20260718T094500
DTEND;TZID=UTC:20260718T164500
UID:4204F71E-92FD-4566-84EA-E69B2C92E533
SUMMARY:7. Jugendtraining vor dem Sommerfest
CREATED:20260410T192048Z
DTSTAMP:20260410T192048Z
URL:https://www.esc-eching.de/termine/2-jugendtraining-2
DESCRIPTION:Optitraining\NJugend Theorie und Segeltraining\NAnfängerkurs
X-ALT-DESC;FMTTYPE=text/html:<p>Optitraining</p><p>Jugend Theorie und Segeltraining</p><p>Anfängerkurs</p>
LAST-MODIFIED:20260410T195041Z
SEQUENCE:1793
LOCATION:Erholungsgebiet 3\, 82279 Eching am Ammersee\, Bayern\, Deutschland
GEO:48.07044075;11.11099184
X-LOCATION-DISPLAYNAME:Clubgelände
X-ACCESS:1
X-HITS:0
X-COLOR:00b80c
X-SHOW-END-TIME:1
END:VEVENT
BEGIN:VEVENT
DTSTART;TZID=UTC:20260913T100000
DTEND;TZID=UTC:20260913T160000
UID:B651D2CF-5C3E-431D-84BB-6D363EA007C8
SUMMARY:Jugend - Sportsegelprüfung
CREATED:20260410T200818Z
DTSTAMP:20260410T200818Z
URL:https://www.esc-eching.de/termine/jugend-sportsegelpruefung
DESCRIPTION:Jugend Sportsegelschein\N\NTheorieprüfung\NPraxisprüfung\N
X-ALT-DESC;FMTTYPE=text/html:<p><strong>Jugend Sportsegelschein</strong></p><ul style="list-style-type: circle;"><li>Theorieprüfung</li><li>Praxisprüfung</li></ul>
LAST-MODIFIED:20260410T200818Z
SEQUENCE:0
LOCATION:Erholungsgebiet 3\, 82279 Eching am Ammersee\, Bayern\, Deutschland
GEO:48.07044075;11.11099184
X-LOCATION-DISPLAYNAME:Clubgelände
X-ACCESS:1
X-HITS:0
X-COLOR:00b80c
X-SHOW-END-TIME:1
END:VEVENT
END:VCALENDAR