BEGIN:VCALENDAR
VERSION:2.0
PRODID:DPCALENDAR
CALSCALE:GREGORIAN
X-WR-TIMEZONE:UTC
BEGIN:VEVENT
DTSTART;TZID=UTC:20231118T133000
DTEND;TZID=UTC:20231118T143000
UID:C64CA05F-C97E-4C17-ADAF-989201F9D92E
SUMMARY:Echinger Vereine-Schießen
CREATED:20231129T203533Z
DTSTAMP:20231129T203533Z
URL:https://www.esc-eching.de/termine/echinger-vereine-schiessen
X-ACCESS:1
X-HITS:0
X-COLOR:354d85
X-SHOW-END-TIME:1
END:VEVENT
BEGIN:VEVENT
DTSTART;TZID=UTC:20240224T183000
DTEND;TZID=UTC:20240224T213000
UID:47B94F5C-1668-475B-8920-E47CF29163F2
SUMMARY:Mitgliederversammlung
CREATED:20231129T170113Z
DTSTAMP:20231129T170113Z
URL:https://www.esc-eching.de/termine/mitgliederversammlung
DESCRIPTION:Live im Clubhaus oder online per Teams Session
X-ALT-DESC;FMTTYPE=text/html:<p>Live im Clubhaus oder online per Teams Session</p>
LAST-MODIFIED:20231129T190103Z
SEQUENCE:7190
LOCATION:Erholungsgebiet 3\, 82279 Eching am Ammersee\, Bayern\, Deutschland
GEO:48.07044075;11.11099184
X-LOCATION-DISPLAYNAME:Clubhaus
X-ACCESS:1
X-HITS:2
X-COLOR:354d85
X-SHOW-END-TIME:0
END:VEVENT
BEGIN:VEVENT
DTSTART;TZID=UTC:20240317T100000
DTEND;TZID=UTC:20240317T110000
UID:41F8B0D4-B7B2-4B45-9E96-C122BF1A142A
SUMMARY:Weißwustfrühstück
CREATED:20231129T170654Z
DTSTAMP:20231129T170654Z
URL:https://www.esc-eching.de/termine/weisswustfruehstueck
LAST-MODIFIED:20231129T190151Z
SEQUENCE:6897
X-ACCESS:1
X-HITS:0
X-COLOR:354d85
X-SHOW-END-TIME:0
END:VEVENT
BEGIN:VEVENT
DTSTART;TZID=UTC:20241020T140000
DTEND;TZID=UTC:20241020T150000
UID:CFE13238-5C4A-43F7-AFBF-2FA52944C1FA
SUMMARY:Absegeln, Einholen Clubstander
CREATED:20231129T203440Z
DTSTAMP:20231129T203440Z
URL:https://www.esc-eching.de/termine/absegeln-einholen-clubstander
LOCATION:Erholungsgebiet 3\, 82279 Eching am Ammersee\, Bayern\, Deutschland
GEO:48.07044075;11.11099184
X-LOCATION-DISPLAYNAME:Clubhaus
X-ACCESS:1
X-HITS:0
X-COLOR:354d85
X-SHOW-END-TIME:1
END:VEVENT
BEGIN:VEVENT
DTSTART;TZID=UTC:20241118T133000
DTEND;TZID=UTC:20241118T143000
UID:FE201113-FF93-49B5-9449-E646BB091558
SUMMARY:Echinger Vereine-Schießen
CREATED:20231129T204224Z
DTSTAMP:20231129T204224Z
URL:https://www.esc-eching.de/termine/echinger-vereine-schiessen-2
LOCATION:Zankenhauser Str. 100\, 82279  Eching am Ammersee
GEO:48.08565890;11.11499500
X-LOCATION-DISPLAYNAME:Schützenheim Seerose
X-ACCESS:1
X-HITS:0
X-COLOR:354d85
X-SHOW-END-TIME:0
END:VEVENT
BEGIN:VEVENT
DTSTART;TZID=UTC:20241207T180000
DTEND;TZID=UTC:20241207T220000
UID:D47ED4D2-FFFE-40CA-9CC7-CFB590ACC0F4
SUMMARY:ESC-Weihnachts-und Jahresabschlussfeier
CREATED:20231129T203647Z
DTSTAMP:20231129T203647Z
URL:https://www.esc-eching.de/termine/esc-weihnachts-und-jahresabschlussfeier
LAST-MODIFIED:20231129T204035Z
SEQUENCE:228
X-ACCESS:1
X-HITS:0
X-COLOR:354d85
X-SHOW-END-TIME:1
END:VEVENT
BEGIN:VEVENT
DTSTART;TZID=UTC:20250125T170000
DTEND;TZID=UTC:20250125T210000
UID:1DDE9C7B-5AFE-4496-BD86-FC2B939BE1EE
SUMMARY:Clubabend mit Uli, Ralf und Christian
CREATED:20241229T175610Z
DTSTAMP:20241229T175610Z
URL:https://www.esc-eching.de/termine/clubabend-mit-uli-ralf-und-christian
DESCRIPTION:Siehe Einladung - ESC Clubintern\N\NEinladung ging der Mitgliedschaft am 06.01.2025 zu. Anmeldung zwingend erforderlich.\NProgramm:\N17:00 Uhr     “Hors d’oevre” by Ralf\N18:00 Uhr     Mit STELLA vom Ammersee nach Göteburg und zurück. Ein kleines Ostseeabenteuer. Christian G.\N18:45 Uhr     Hauptgang „Lasagne bzw. Ratatouille mit Pasta“ by Ralf\N20:00 Uhr     Mit ESCape zur Silverrudder. Einhand rund Fünen. Uli D.\N20:45 Uhr     Ende des offiziellen Teils – danach Seglerhock
X-ALT-DESC;FMTTYPE=text/html:<p>Siehe Einladung - ESC Clubintern</p><hr id="system-readmore"><p>Einladung ging der Mitgliedschaft am 06.01.2025 zu. Anmeldung zwingend erforderlich.</p><p class="MsoNormal"><strong>Programm:</strong></p><p class="MsoNormal"><span lang="EN-US"><span dir="ltr">17:00 Uhr</span>     “Hors d’oevre” by Ralf</span></p><p class="MsoNormal"><span dir="ltr">18:00 Uhr</span>     Mit STELLA vom Ammersee nach Göteburg und zurück. Ein kleines Ostseeabenteuer. <span style="font-size: 1rem;">Christian G.</span></p><p class="MsoNormal"><span dir="ltr">18:45 Uhr</span>     Hauptgang „Lasagne bzw. Ratatouille mit Pasta“ by Ralf</p><p class="MsoNormal"><span dir="ltr">20:00 Uhr</span>     Mit ESCape zur Silverrudder. Einhand rund Fünen. <span style="font-size: 1rem;">Uli D.</span></p><p class="MsoNormal"><span dir="ltr">20:45 Uhr</span>     Ende des offiziellen Teils – danach Seglerhock</p>
LAST-MODIFIED:20250108T195821Z
SEQUENCE:871331
X-ACCESS:1
X-HITS:0
X-COLOR:354d85
X-SHOW-END-TIME:1
END:VEVENT
BEGIN:VEVENT
DTSTART;TZID=UTC:20250222T183000
DTEND;TZID=UTC:20250222T223000
UID:85770CB8-B844-401A-9CED-0DE3E9C6E4FC
SUMMARY:Mitgliederversammlung 2025
CREATED:20241229T175756Z
DTSTAMP:20241229T175756Z
URL:https://www.esc-eching.de/termine/mitgliederversammlung-2025
DESCRIPTION:gemäß Einladung
X-ALT-DESC;FMTTYPE=text/html:<p>gemäß Einladung</p>
LAST-MODIFIED:20241229T180710Z
SEQUENCE:554
X-ACCESS:1
X-HITS:0
X-COLOR:354d85
X-SHOW-END-TIME:0
END:VEVENT
BEGIN:VEVENT
DTSTART;TZID=UTC:20250316T110000
DTEND;TZID=UTC:20250316T130000
UID:4211E461-EDB9-4C97-847B-69A44F91C22F
SUMMARY:Weißwurstfrühstück
CREATED:20241229T175859Z
DTSTAMP:20241229T175859Z
URL:https://www.esc-eching.de/termine/weisswurstfruehstueck
LAST-MODIFIED:20250111T112613Z
SEQUENCE:1099634
X-ACCESS:1
X-HITS:0
X-COLOR:354d85
X-SHOW-END-TIME:0
END:VEVENT
BEGIN:VEVENT
DTSTART;TZID=UTC:20250501T110000
DTEND;TZID=UTC:20250501T120000
UID:C3B9EBD3-FC72-47AB-A05E-057A1C8AE1DC
SUMMARY: Ansegeln
CREATED:20241229T180631Z
DTSTAMP:20241229T180631Z
URL:https://www.esc-eching.de/termine/ansegeln
LAST-MODIFIED:20250501T062114Z
SEQUENCE:10584883
LOCATION:Erholungsgebiet 3\, 82279 Eching am Ammersee\, Bayern\, Deutschland
GEO:48.07044075;11.11099184
X-LOCATION-DISPLAYNAME:Clubgelände
X-ACCESS:1
X-HITS:0
X-COLOR:354d85
X-SHOW-END-TIME:1
END:VEVENT
BEGIN:VEVENT
DTSTART;TZID=UTC:20250501T110000
DTEND;TZID=UTC:20250501T190000
UID:CAAFE927-5F12-449A-9912-B253172BBF4B
SUMMARY:Ansegeln mit Regattatraining für alle Klassen auf dem See
CREATED:20241229T180702Z
DTSTAMP:20241229T180702Z
URL:https://www.esc-eching.de/termine/regattatraining-alle-klassen-praxis
DESCRIPTION:Anmeldung in M2S :\NEchinger Segel-Club e.V. manage2sail\N 
X-ALT-DESC;FMTTYPE=text/html:<p>Anmeldung in M2S :</p><p><a href="https://www.manage2sail.com/de-DE/Club/Detail/d0e10bce-0403-4024-9bee-f845c641e1b9">Echinger Segel-Club e.V. manage2sail</a></p><p> </p>
LAST-MODIFIED:20250501T062040Z
SEQUENCE:10584818
LOCATION:Erholungsgebiet 3\, 82279 Eching am Ammersee\, Bayern\, Deutschland
GEO:48.07044075;11.11099184
X-LOCATION-DISPLAYNAME:Clubgelände
X-ACCESS:1
X-HITS:0
X-COLOR:354d85
X-SHOW-END-TIME:0
END:VEVENT
BEGIN:VEVENT
DTSTART;TZID=UTC:20250621T190000
DTEND;TZID=UTC:20250621T213000
UID:DE8DAAD4-573E-4A71-94A8-52B308224DD3
SUMMARY:Sonnwendfeier
CREATED:20241229T181257Z
DTSTAMP:20241229T181257Z
URL:https://www.esc-eching.de/termine/sonnwendfeier
LAST-MODIFIED:20241229T182035Z
SEQUENCE:458
LOCATION:Greifenberger Straße\, 82279 Eching am Ammersee
GEO:48.07752880;11.10885940
X-LOCATION-DISPLAYNAME:FSV Eching
X-ACCESS:1
X-HITS:0
X-COLOR:354d85
X-SHOW-END-TIME:0
END:VEVENT
BEGIN:VEVENT
DTSTART;VALUE=DATE:20250726
DTEND;VALUE=DATE:20250727
UID:82DD2B06-EAF4-483F-9CCB-20036BCC2D33
SUMMARY:ESC Sommerfest mit Bootstaufen
CREATED:20241229T181257Z
DTSTAMP:20241229T181257Z
URL:https://www.esc-eching.de/termine/esc-sommerfest-mit-bootstaufen-2
DESCRIPTION:gemäß Einladung
X-ALT-DESC;FMTTYPE=text/html:<p>gemäß Einladung</p>
LAST-MODIFIED:20241229T183321Z
SEQUENCE:1224
LOCATION:Erholungsgebiet 3\, 82279 Eching am Ammersee\, Bayern\, Deutschland
GEO:48.07044075;11.11099184
X-LOCATION-DISPLAYNAME:Clubhaus
X-ACCESS:1
X-HITS:0
X-COLOR:354d85
X-SHOW-END-TIME:0
END:VEVENT
BEGIN:VEVENT
DTSTART;TZID=UTC:20251018T140000
DTEND;TZID=UTC:20251018T140000
UID:8BB9A567-AED6-4619-A6FD-BA0F47B25F40
SUMMARY:Absegeln, Einholen Clubstander
CREATED:20241229T181257Z
DTSTAMP:20241229T181257Z
URL:https://www.esc-eching.de/termine/absegeln-einholen-clubstander-2
DESCRIPTION:gemäß Ausschreibung
X-ALT-DESC;FMTTYPE=text/html:<p>gemäß Ausschreibung</p>
LAST-MODIFIED:20241229T182721Z
SEQUENCE:864
LOCATION:Erholungsgebiet 3\, 82279 Eching am Ammersee\, Bayern\, Deutschland
GEO:48.07044075;11.11099184
X-LOCATION-DISPLAYNAME:Clubgelände
X-ACCESS:1
X-HITS:0
X-COLOR:354d85
X-SHOW-END-TIME:1
END:VEVENT
BEGIN:VEVENT
DTSTART;TZID=UTC:20251206T180000
DTEND;TZID=UTC:20251206T180000
UID:DED81278-7A25-4B5D-91FB-9C5B06B3A420
SUMMARY: ESC-Weihnachts- & Jahresabschlussfeier
CREATED:20241229T181257Z
DTSTAMP:20241229T181257Z
URL:https://www.esc-eching.de/termine/esc-weihnachts-jahresabschlussfeier
DESCRIPTION:gemäß Einladung
X-ALT-DESC;FMTTYPE=text/html:<p>gemäß Einladung</p>
LAST-MODIFIED:20241229T183225Z
SEQUENCE:1168
LOCATION:Erholungsgebiet 3\, 82279 Eching am Ammersee\, Bayern\, Deutschland
GEO:48.07044075;11.11099184
X-LOCATION-DISPLAYNAME:Clubhaus
X-ACCESS:1
X-HITS:0
X-COLOR:354d85
X-SHOW-END-TIME:0
END:VEVENT
BEGIN:VEVENT
DTSTART;TZID=UTC:20260124T170000
DTEND;TZID=UTC:20260124T210000
UID:91DDBE4E-B19E-40B6-A82A-6436598BC0E9
SUMMARY:Clubabend mit Reiseberichten und Ralf's Küche 
CREATED:20241229T175610Z
DTSTAMP:20241229T175610Z
URL:https://www.esc-eching.de/termine/clubabend-mit-reiseberichten-und-ralfs-kueche
DESCRIPTION:Siehe Einladung - ESC Clubintern
X-ALT-DESC;FMTTYPE=text/html:<p>Siehe Einladung - ESC Clubintern</p>
LAST-MODIFIED:20260105T093707Z
SEQUENCE:32110857
LOCATION:Erholungsgebiet 3\, 82279 Eching am Ammersee\, Bayern\, Deutschland
GEO:48.07044075;11.11099184
X-LOCATION-DISPLAYNAME:Clubhaus
X-ACCESS:1
X-HITS:0
X-COLOR:354d85
X-SHOW-END-TIME:1
END:VEVENT
BEGIN:VEVENT
DTSTART;TZID=UTC:20260228T183000
DTEND;TZID=UTC:20260228T220000
UID:5C1586AC-297B-4454-A812-232B55F2E8A0
SUMMARY:ESC Mitgliederversammlung 2026
CREATED:20251123T185028Z
DTSTAMP:20251123T185028Z
URL:https://www.esc-eching.de/termine/esc-mitgliederversammlung-2026
DESCRIPTION:Terminankündigung zur Mitgliederversammlung 2026 im ESC Clubhaus. Einladung folgt.\NDie Mitgliederversammlung findet am 28. Februar 2026 statt. \NBeginn um 18:30 Uhr, Ende ca. 22:00 Uhr 
X-ALT-DESC;FMTTYPE=text/html:<p>Terminankündigung zur Mitgliederversammlung 2026 im ESC Clubhaus. Einladung folgt.</p><p>Die Mitgliederversammlung findet am 28. Februar 2026 statt. </p><p>Beginn um 18:30 Uhr, Ende ca. 22:00 Uhr </p>
LAST-MODIFIED:20260105T083821Z
SEQUENCE:3678473
LOCATION:Erholungsgebiet 3\, 82279 Eching am Ammersee\, Bayern\, Deutschland
GEO:48.07044075;11.11099184
X-LOCATION-DISPLAYNAME:Clubhaus
X-ACCESS:1
X-HITS:0
X-COLOR:354d85
X-SHOW-END-TIME:1
END:VEVENT
BEGIN:VEVENT
DTSTART;TZID=UTC:20260315T110000
DTEND;TZID=UTC:20260315T130000
UID:FE39D910-D83B-4029-8CDD-7E158A44033A
SUMMARY:Weißwurstfrühstück
CREATED:20241229T175859Z
DTSTAMP:20241229T175859Z
URL:https://www.esc-eching.de/termine/weisswurstfruehstueck-2026
LAST-MODIFIED:20260105T093808Z
SEQUENCE:32110749
X-ACCESS:1
X-HITS:0
X-COLOR:354d85
X-SHOW-END-TIME:0
END:VEVENT
BEGIN:VEVENT
DTSTART;TZID=UTC:20260620T183000
DTEND;TZID=UTC:20260620T210000
UID:AC44B0FA-F6AF-4698-AF2B-C336E3150F53
SUMMARY:Sonnwendfeier
CREATED:20241229T181257Z
DTSTAMP:20241229T181257Z
URL:https://www.esc-eching.de/termine/sonnwendfeier-2026
LAST-MODIFIED:20260105T091151Z
SEQUENCE:32108334
LOCATION:Greifenberger Straße\, 82279 Eching am Ammersee
GEO:48.07752880;11.10885940
X-LOCATION-DISPLAYNAME:FSV Eching
X-ACCESS:1
X-HITS:0
X-COLOR:354d85
X-SHOW-END-TIME:0
END:VEVENT
BEGIN:VEVENT
DTSTART;VALUE=DATE:20260718
DTEND;VALUE=DATE:20260719
UID:80056D0D-B612-4909-AD24-3B2B00B527CA
SUMMARY:ESC Sommerfest mit Bootstaufen
CREATED:20241229T181257Z
DTSTAMP:20241229T181257Z
URL:https://www.esc-eching.de/termine/esc-sommerfest-mit-bootstaufen-2026
DESCRIPTION:gemäß Einladung
X-ALT-DESC;FMTTYPE=text/html:<p>gemäß Einladung</p>
LAST-MODIFIED:20260105T091543Z
SEQUENCE:32108566
LOCATION:Erholungsgebiet 3\, 82279 Eching am Ammersee\, Bayern\, Deutschland
GEO:48.07044075;11.11099184
X-LOCATION-DISPLAYNAME:Clubhaus
X-ACCESS:1
X-HITS:0
X-COLOR:354d85
X-SHOW-END-TIME:0
END:VEVENT
BEGIN:VEVENT
DTSTART;VALUE=DATE:20260803
DTEND;VALUE=DATE:20260804
UID:92665F99-7D10-4105-9B07-E1A6F5ECE723
SUMMARY:Echinger Ferientag
CREATED:20260105T092113Z
DTSTAMP:20260105T092113Z
URL:https://www.esc-eching.de/termine/echinger-ferientag-2026
LAST-MODIFIED:20260105T092211Z
SEQUENCE:58
LOCATION:Erholungsgebiet 3\, 82279 Eching am Ammersee\, Bayern\, Deutschland
GEO:48.07044075;11.11099184
X-LOCATION-DISPLAYNAME:Clubgelände
X-ACCESS:1
X-HITS:0
X-COLOR:354d85
X-SHOW-END-TIME:1
END:VEVENT
BEGIN:VEVENT
DTSTART;TZID=UTC:20261018T140000
DTEND;TZID=UTC:20261018T140000
UID:AB38BD5C-8C5A-4843-833A-6AFFBE155271
SUMMARY:Absegeln, Einholen Clubstander
CREATED:20241229T181257Z
DTSTAMP:20241229T181257Z
URL:https://www.esc-eching.de/termine/absegeln-einholen-clubstander-2026
DESCRIPTION:gemäß Ausschreibung
X-ALT-DESC;FMTTYPE=text/html:<p>gemäß Ausschreibung</p>
LAST-MODIFIED:20260105T093109Z
SEQUENCE:32109492
LOCATION:Erholungsgebiet 3\, 82279 Eching am Ammersee\, Bayern\, Deutschland
GEO:48.07044075;11.11099184
X-LOCATION-DISPLAYNAME:Clubgelände
X-ACCESS:1
X-HITS:0
X-COLOR:354d85
X-SHOW-END-TIME:0
END:VEVENT
BEGIN:VEVENT
DTSTART;VALUE=DATE:20261113
DTEND;VALUE=DATE:20261116
UID:5DF1C546-427E-48BD-8C18-1C9AE1E78B59
SUMMARY:SKS Theorie Ausbildung (nur für ESC Mitglieder)
CREATED:20260327T101643Z
DTSTAMP:20260327T101643Z
URL:https://www.esc-eching.de/termine/sks-theorie-ausbildung-nur-fuer-esc-mitglieder
DESCRIPTION:SKS Theorieausbildung - Anmeldung erforderlich - bitte meldet euch bei Interesse beim Ersten Vorstand. Begrenzte Teilnahme. 
X-ALT-DESC;FMTTYPE=text/html:<p>SKS Theorieausbildung - Anmeldung erforderlich - bitte meldet euch bei Interesse beim Ersten Vorstand. Begrenzte Teilnahme. </p>
LAST-MODIFIED:20260327T101643Z
SEQUENCE:0
X-ACCESS:1
X-HITS:0
X-COLOR:354d85
X-SHOW-END-TIME:1
END:VEVENT
BEGIN:VEVENT
DTSTART;TZID=UTC:20261205T173000
DTEND;TZID=UTC:20261205T173000
UID:30F32B4C-FFB9-4434-9718-8803C0E1CDBC
SUMMARY: ESC-Weihnachts- & Jahresabschlussfeier
CREATED:20241229T181257Z
DTSTAMP:20241229T181257Z
URL:https://www.esc-eching.de/termine/esc-weihnachts-jahresabschlussfeier-2026
DESCRIPTION:gemäß Einladung
X-ALT-DESC;FMTTYPE=text/html:<p>gemäß Einladung</p>
LAST-MODIFIED:20260105T093536Z
SEQUENCE:32109759
LOCATION:Erholungsgebiet 3\, 82279 Eching am Ammersee\, Bayern\, Deutschland
GEO:48.07044075;11.11099184
X-LOCATION-DISPLAYNAME:Clubhaus
X-ACCESS:1
X-HITS:0
X-COLOR:354d85
X-SHOW-END-TIME:0
END:VEVENT
END:VCALENDAR