BEGIN:VCALENDAR
VERSION:2.0
PRODID:DPCALENDAR
CALSCALE:GREGORIAN
X-WR-TIMEZONE:UTC
BEGIN:VEVENT
DTSTART;TZID=UTC:20240323T090000
DTEND;TZID=UTC:20240323T170000
UID:24277C59-C164-4832-BD6B-FE3BEB46FD5A
SUMMARY:Arbeitsdienst 
CREATED:20240303T191805Z
DTSTAMP:20240303T191805Z
URL:/index.php?option=com_contact&view=contact&id=6:takelmeister&catid=4&Itemid=112
DESCRIPTION:Bitte beim Takelmeister anmelden.
X-ALT-DESC;FMTTYPE=text/html:<p>Bitte beim Takelmeister anmelden.</p>
X-ACCESS:1
X-HITS:0
X-COLOR:ff8c00
X-SHOW-END-TIME:0
END:VEVENT
BEGIN:VEVENT
DTSTART;TZID=UTC:20240406T090000
DTEND;TZID=UTC:20240406T150000
UID:EB29CF99-9252-44DE-9AF9-05921B1DC96C
SUMMARY:Auslagern Winterlager
CREATED:20240303T191805Z
DTSTAMP:20240303T191805Z
URL:/index.php?option=com_contact&view=contact&id=6:takelmeister&catid=4&Itemid=112
X-ACCESS:1
X-HITS:0
X-COLOR:ff8c00
X-SHOW-END-TIME:0
END:VEVENT
BEGIN:VEVENT
DTSTART;TZID=UTC:20240427T100000
DTEND;TZID=UTC:20240427T140000
UID:8CF1F090-9031-4C3C-83ED-21D5BA3567A4
SUMMARY:Motorbooteinweisung
CREATED:20240303T191805Z
DTSTAMP:20240303T191805Z
URL:/index.php?option=com_contact&view=contact&id=6:takelmeister&catid=4&Itemid=112
DESCRIPTION:Bitte anmelden beim Takelmeister
X-ALT-DESC;FMTTYPE=text/html:<p>Bitte anmelden beim Takelmeister</p>
LAST-MODIFIED:20240303T192406Z
SEQUENCE:361
LOCATION:Erholungsgebiet 3\, 82279 Eching am Ammersee\, Bayern\, Deutschland
GEO:48.07044075;11.11099184
X-LOCATION-DISPLAYNAME:Clubgelände
X-ACCESS:1
X-HITS:0
X-COLOR:ff8c00
X-SHOW-END-TIME:0
END:VEVENT
BEGIN:VEVENT
DTSTART;TZID=UTC:20241109T090000
DTEND;TZID=UTC:20241109T170000
UID:0778D01C-F7E1-4B94-A3C1-A39AE8AB1C26
SUMMARY:Arbeitsdienst
CREATED:20240303T191805Z
DTSTAMP:20240303T191805Z
URL:/index.php?option=com_contact&view=contact&id=6:takelmeister&catid=4&Itemid=112
DESCRIPTION:Anmeldung beim Takelmeister
X-ALT-DESC;FMTTYPE=text/html:<p>Anmeldung beim Takelmeister</p>
LAST-MODIFIED:20240303T192923Z
SEQUENCE:678
LOCATION:Erholungsgebiet 3\, 82279 Eching am Ammersee\, Bayern\, Deutschland
GEO:48.07044075;11.11099184
X-LOCATION-DISPLAYNAME:Clubhaus
X-ACCESS:1
X-HITS:0
X-COLOR:ff8c00
X-SHOW-END-TIME:0
END:VEVENT
BEGIN:VEVENT
DTSTART;TZID=UTC:20250329T090000
DTEND;TZID=UTC:20250329T100000
UID:2491426A-59E0-44BF-9C95-384D80B4DA5C
SUMMARY:Arbeitsdienst
CREATED:20241229T180153Z
DTSTAMP:20241229T180153Z
URL:https://www.esc-eching.de/termine/arbeitsdienst-3
DESCRIPTION:Anmeldung beim Takelmeister
X-ALT-DESC;FMTTYPE=text/html:<p>Anmeldung beim Takelmeister</p>
LAST-MODIFIED:20241229T180719Z
SEQUENCE:326
LOCATION:Erholungsgebiet 3\, 82279 Eching am Ammersee\, Bayern\, Deutschland
GEO:48.07044075;11.11099184
X-LOCATION-DISPLAYNAME:Clubgelände
X-ACCESS:1
X-HITS:0
X-COLOR:ff8c00
X-SHOW-END-TIME:0
END:VEVENT
BEGIN:VEVENT
DTSTART;TZID=UTC:20250405T090000
DTEND;TZID=UTC:20250405T150000
UID:2C9BB11E-7FFC-4E6A-A3AB-C38B59ED85DB
SUMMARY:Auslagern Winterlager
CREATED:20241229T180409Z
DTSTAMP:20241229T180409Z
URL:https://www.esc-eching.de/termine/auslagern-winterlager-3
LAST-MODIFIED:20241229T180409Z
SEQUENCE:0
X-ACCESS:1
X-HITS:0
X-COLOR:ff8c00
X-SHOW-END-TIME:1
END:VEVENT
BEGIN:VEVENT
DTSTART;TZID=UTC:20250503T100000
DTEND;TZID=UTC:20250503T110000
UID:F43D3ED8-7BDD-4A99-8265-FEDD5B9D7947
SUMMARY:Motorbooteinweisung
CREATED:20241229T181024Z
DTSTAMP:20241229T181024Z
URL:https://www.esc-eching.de/termine/motorbooteinweisung-2
DESCRIPTION:Anmeldung beim Takelmeister
X-ALT-DESC;FMTTYPE=text/html:<p>Anmeldung beim Takelmeister</p>
LAST-MODIFIED:20241229T181024Z
SEQUENCE:0
LOCATION:Erholungsgebiet 3\, 82279 Eching am Ammersee\, Bayern\, Deutschland
GEO:48.07044075;11.11099184
X-LOCATION-DISPLAYNAME:Clubgelände
X-ACCESS:1
X-HITS:0
X-COLOR:ff8c00
X-SHOW-END-TIME:0
END:VEVENT
BEGIN:VEVENT
DTSTART;TZID=UTC:20251025T090000
DTEND;TZID=UTC:20251025T150000
UID:32164563-F710-4472-8A36-A1EAFBBBE489
SUMMARY:Einlagern Winterlager          
CREATED:20241229T181257Z
DTSTAMP:20241229T181257Z
URL:https://www.esc-eching.de/termine/einlagern-winterlager
LAST-MODIFIED:20241229T182922Z
SEQUENCE:985
LOCATION:Erholungsgebiet 3\, 82279 Eching am Ammersee\, Bayern\, Deutschland
GEO:48.07044075;11.11099184
X-LOCATION-DISPLAYNAME:Clubgelände
X-ACCESS:1
X-HITS:0
X-COLOR:ff8c00
X-SHOW-END-TIME:1
END:VEVENT
BEGIN:VEVENT
DTSTART;VALUE=DATE:20251108
DTEND;VALUE=DATE:20251109
UID:E4E63F3E-AAB4-462E-B2DF-6449ABBC2DE3
SUMMARY:Arbeitsdienst
CREATED:20241229T181257Z
DTSTAMP:20241229T181257Z
URL:https://www.esc-eching.de/termine/arbeitsdienst-4
DESCRIPTION:Anmeldung beim Takelmeister
X-ALT-DESC;FMTTYPE=text/html:<p>Anmeldung beim Takelmeister</p>
LAST-MODIFIED:20241229T183005Z
SEQUENCE:1028
LOCATION:Erholungsgebiet 3\, 82279 Eching am Ammersee\, Bayern\, Deutschland
GEO:48.07044075;11.11099184
X-LOCATION-DISPLAYNAME:Clubgelände
X-ACCESS:1
X-HITS:0
X-COLOR:ff8c00
X-SHOW-END-TIME:1
END:VEVENT
BEGIN:VEVENT
DTSTART;TZID=UTC:20260321T090000
DTEND;TZID=UTC:20260321T100000
UID:9C2B60C6-01D7-4F6D-9B31-C09718C57AD2
SUMMARY:Arbeitsdienst
CREATED:20241229T180153Z
DTSTAMP:20241229T180153Z
URL:https://www.esc-eching.de/termine/arbeitsdienst-3-2026
DESCRIPTION:Anmeldung beim Takelmeister
X-ALT-DESC;FMTTYPE=text/html:<p>Anmeldung beim Takelmeister</p>
LAST-MODIFIED:20260105T093859Z
SEQUENCE:32110626
LOCATION:Erholungsgebiet 3\, 82279 Eching am Ammersee\, Bayern\, Deutschland
GEO:48.07044075;11.11099184
X-LOCATION-DISPLAYNAME:Clubgelände
X-ACCESS:1
X-HITS:0
X-COLOR:ff8c00
X-SHOW-END-TIME:0
END:VEVENT
BEGIN:VEVENT
DTSTART;TZID=UTC:20260328T090000
DTEND;TZID=UTC:20260328T150000
UID:93A46EDB-91D0-41A5-8DB6-E01D99D5B9CA
SUMMARY:Auslagern Winterlager
CREATED:20241229T180409Z
DTSTAMP:20241229T180409Z
URL:https://www.esc-eching.de/termine/auslagern-winterlager-3-2026
LAST-MODIFIED:20260105T093825Z
SEQUENCE:32110456
X-ACCESS:1
X-HITS:0
X-COLOR:ff8c00
X-SHOW-END-TIME:1
END:VEVENT
BEGIN:VEVENT
DTSTART;TZID=UTC:20260425T100000
DTEND;TZID=UTC:20260425T110000
UID:E58A1235-2168-4FB1-B202-722866487D36
SUMMARY:Motorbooteinweisung
CREATED:20241229T181024Z
DTSTAMP:20241229T181024Z
URL:https://www.esc-eching.de/termine/motorbooteinweisung-2-2026
DESCRIPTION:Anmeldung beim Takelmeister
X-ALT-DESC;FMTTYPE=text/html:<p>Anmeldung beim Takelmeister</p>
LAST-MODIFIED:20260105T093912Z
SEQUENCE:32110128
LOCATION:Erholungsgebiet 3\, 82279 Eching am Ammersee\, Bayern\, Deutschland
GEO:48.07044075;11.11099184
X-LOCATION-DISPLAYNAME:Clubgelände
X-ACCESS:1
X-HITS:0
X-COLOR:ff8c00
X-SHOW-END-TIME:0
END:VEVENT
BEGIN:VEVENT
DTSTART;TZID=UTC:20261024T090000
DTEND;TZID=UTC:20261024T150000
UID:FD8278E1-2EA3-4769-B6EB-742D1522D7C5
SUMMARY:Einlagern Winterlager          
CREATED:20241229T181257Z
DTSTAMP:20241229T181257Z
URL:https://www.esc-eching.de/termine/einlagern-winterlager-2026
LAST-MODIFIED:20260105T094354Z
SEQUENCE:32110257
LOCATION:Erholungsgebiet 3\, 82279 Eching am Ammersee\, Bayern\, Deutschland
GEO:48.07044075;11.11099184
X-LOCATION-DISPLAYNAME:Clubgelände
X-ACCESS:1
X-HITS:0
X-COLOR:ff8c00
X-SHOW-END-TIME:1
END:VEVENT
BEGIN:VEVENT
DTSTART;VALUE=DATE:20261031
DTEND;VALUE=DATE:20261101
UID:664AA055-490C-4838-A482-AD27BBA79C13
SUMMARY:Arbeitsdienst
CREATED:20241229T181257Z
DTSTAMP:20241229T181257Z
URL:https://www.esc-eching.de/termine/arbeitsdienst-2-2026
DESCRIPTION:Anmeldung beim Takelmeister
X-ALT-DESC;FMTTYPE=text/html:<p>Anmeldung beim Takelmeister</p>
LAST-MODIFIED:20260105T093251Z
SEQUENCE:32109594
LOCATION:Erholungsgebiet 3\, 82279 Eching am Ammersee\, Bayern\, Deutschland
GEO:48.07044075;11.11099184
X-LOCATION-DISPLAYNAME:Clubgelände
X-ACCESS:1
X-HITS:0
X-COLOR:ff8c00
X-SHOW-END-TIME:1
END:VEVENT
END:VCALENDAR