BEGIN:VCALENDAR
VERSION:2.0
PRODID:DPCALENDAR
CALSCALE:GREGORIAN
X-WR-TIMEZONE:UTC
BEGIN:VEVENT
DTSTART;VALUE=DATE:20240511
DTEND;VALUE=DATE:20240513
UID:C40C0FAE-9252-49D6-BD1A-6B0C7C4F64D2
SUMMARY:Cat Auftakt Süd Dart 18
CREATED:20231129T202112Z
DTSTAMP:20231129T202112Z
URL:https://www.manage2sail.com/de-DE/event/d3554a5b-b8e6-4668-8876-7d36f4bd0427#!/
DESCRIPTION:Klassenregatta der Dart 18\NMeldung und Ergebnisse über den link zu Manage2Sail:\NEchinger Segel-Club e.V. manage2sail\NAusschreibung und Anmeldung zur Regatta auf M2S
X-ALT-DESC;FMTTYPE=text/html:<p>Klassenregatta der Dart 18</p><p>Meldung und Ergebnisse über den link zu Manage2Sail:</p><p><a href="https://www.manage2sail.com/de-DE/Club/Detail/d0e10bce-0403-4024-9bee-f845c641e1b9">Echinger Segel-Club e.V. manage2sail</a></p><p>Ausschreibung und Anmeldung zur Regatta auf M2S</p>
LAST-MODIFIED:20231129T202403Z
SEQUENCE:171
LOCATION:Erholungsgebiet 3\, 82279 Eching am Ammersee\, Bayern\, Deutschland
GEO:48.07044075;11.11099184
X-LOCATION-DISPLAYNAME:Clubgelände
X-ACCESS:1
X-HITS:0
X-COLOR:cc3333
X-SHOW-END-TIME:0
END:VEVENT
BEGIN:VEVENT
DTSTART;VALUE=DATE:20240511
DTEND;VALUE=DATE:20240512
UID:7710515B-37C2-4FE1-A46C-6C2FE9ADAAB1
SUMMARY:Frühjahrsregatta - Clubmeisterschaft 1. Tag
CREATED:20231129T202007Z
DTSTAMP:20231129T202007Z
URL:https://www.manage2sail.com/de-DE/event/b521b3f1-2842-4cbb-bfc3-bf1a43a71011#!/
DESCRIPTION:Yardstickregatta für Einrumpf u. Katamarane\NESC-Clubmeisterschaft 1. Wettfahrttag\NMeldung und Ergebnisse über den link zu Manage2Sail:\NEchinger Segel-Club e.V. manage2sail\NAusschreibung und Anmeldung zur Regatta auf M2S.
X-ALT-DESC;FMTTYPE=text/html:<p>Yardstickregatta für Einrumpf u. Katamarane</p><p>ESC-Clubmeisterschaft 1. Wettfahrttag</p><p>Meldung und Ergebnisse über den link zu Manage2Sail:</p><p><a href="https://www.manage2sail.com/de-DE/Club/Detail/d0e10bce-0403-4024-9bee-f845c641e1b9">Echinger Segel-Club e.V. manage2sail</a></p><p>Ausschreibung und Anmeldung zur Regatta auf M2S.</p>
LAST-MODIFIED:20231129T202123Z
SEQUENCE:76
LOCATION:Erholungsgebiet 3\, 82279 Eching am Ammersee\, Bayern\, Deutschland
GEO:48.07044075;11.11099184
X-LOCATION-DISPLAYNAME:Clubgelände
X-ACCESS:1
X-HITS:0
X-COLOR:cc3333
X-SHOW-END-TIME:0
END:VEVENT
BEGIN:VEVENT
DTSTART;VALUE=DATE:20240616
DTEND;VALUE=DATE:20240618
UID:1741BF1C-97AD-4634-B015-CE269B36E707
SUMMARY:Gerhard Höppner Gedächtnispreis der 16er JK
CREATED:20231129T202438Z
DTSTAMP:20231129T202438Z
URL:https://www.manage2sail.com/de-DE/event/2bfce371-171d-46f0-a234-eb48de665d54#!/
DESCRIPTION:Klassenregatta für 16er Jollenkreuzer\NVorregatta zum EURO Cup 2024\NMeldung und Ergebnisse über den link zu Manage2Sail:\NEchinger Segel-Club e.V. manage2sail
X-ALT-DESC;FMTTYPE=text/html:<p>Klassenregatta für 16er Jollenkreuzer</p><p>Vorregatta zum EURO Cup 2024</p><p>Meldung und Ergebnisse über den link zu Manage2Sail:</p><p><a href="https://www.manage2sail.com/de-DE/Club/Detail/d0e10bce-0403-4024-9bee-f845c641e1b9">Echinger Segel-Club e.V. manage2sail</a></p>
LAST-MODIFIED:20231129T203033Z
SEQUENCE:355
LOCATION:Erholungsgebiet 3\, 82279 Eching am Ammersee\, Bayern\, Deutschland
GEO:48.07044075;11.11099184
X-LOCATION-DISPLAYNAME:Clubgelände
X-ACCESS:1
X-HITS:0
X-COLOR:cc3333
X-SHOW-END-TIME:0
END:VEVENT
BEGIN:VEVENT
DTSTART;VALUE=DATE:20240618
DTEND;VALUE=DATE:20240622
UID:9AD360C9-0EEF-4DF7-9E2B-D8AFC33B6A62
SUMMARY:EURO Cup der 16er Jollenkreuzer
CREATED:20231129T202630Z
DTSTAMP:20231129T202630Z
URL:https://www.manage2sail.com/de-DE/event/b57c6437-5a6e-4d5a-a693-cf4f6a8d6807#!/
DESCRIPTION:Klassenregatta der 16er Jollenkreuzer\NMeldung und Ergebnisse über den link zu Manage2Sail:\NEchinger Segel-Club e.V. manage2sail\NAusschreibung und Anmeldung zur Regatta bei M2S
X-ALT-DESC;FMTTYPE=text/html:<p>Klassenregatta der 16er Jollenkreuzer</p><p>Meldung und Ergebnisse über den link zu Manage2Sail:</p><p><a href="https://www.manage2sail.com/de-DE/Club/Detail/d0e10bce-0403-4024-9bee-f845c641e1b9">Echinger Segel-Club e.V. manage2sail</a></p><p>Ausschreibung und Anmeldung zur Regatta bei M2S</p>
X-ACCESS:1
X-HITS:0
X-COLOR:cc3333
X-SHOW-END-TIME:0
END:VEVENT
BEGIN:VEVENT
DTSTART;VALUE=DATE:20240622
DTEND;VALUE=DATE:20240623
UID:F3879740-B287-4DD5-8F28-C2843EC5FF90
SUMMARY:Um die Wurst - Clubmeisterschaft 2. Tag
CREATED:20231129T202713Z
DTSTAMP:20231129T202713Z
URL:https://www.manage2sail.com/de-DE/event/61f78bec-5db2-46df-beae-314593ce6232#!/
DESCRIPTION:Yardstickregatta für Einrumpfboote und KatamaraneESC-Clubmeisterschaft 2. WertungMeldung und Ergebnisse über den link zu Manage2Sail\NEchinger Segel-Club e.V. manage2sail\NAusschreibung und Anmeldung zur Regatta auf M2S\N 
X-ALT-DESC;FMTTYPE=text/html:<p>Yardstickregatta für Einrumpfboote und Katamarane<br />ESC-Clubmeisterschaft 2. Wertung<br />Meldung und Ergebnisse über den link zu Manage2Sail</p><p><a href="https://www.manage2sail.com/de-DE/Club/Detail/d0e10bce-0403-4024-9bee-f845c641e1b9">Echinger Segel-Club e.V. manage2sail</a></p><p>Ausschreibung und Anmeldung zur Regatta auf M2S</p><p> </p>
LAST-MODIFIED:20231129T203013Z
SEQUENCE:180
LOCATION:Erholungsgebiet 3\, 82279 Eching am Ammersee\, Bayern\, Deutschland
GEO:48.07044075;11.11099184
X-LOCATION-DISPLAYNAME:Clubgelände
X-ACCESS:1
X-HITS:0
X-COLOR:cc3333
X-SHOW-END-TIME:0
END:VEVENT
BEGIN:VEVENT
DTSTART;VALUE=DATE:20240727
DTEND;VALUE=DATE:20240728
UID:C744FBB3-1156-4218-8D6A-4CB88A051633
SUMMARY:Opti Wooling 2024
CREATED:20231129T202847Z
DTSTAMP:20231129T202847Z
URL:https://www.manage2sail.com/de-DE/event/97fc7164-d22c-4b87-9f26-dd8f289e7efc#!/
DESCRIPTION:Regatta für Optimisten B\NAnmeldung, Check-in/Registrierung bitte in Manage2Sail vornehmen.\NEchinger Segel-Club e.V. manage2sail\NDort findest Du auch die Ausschreibung, Segelanweisung sowie die Ergebnisse nach der Regatta.
X-ALT-DESC;FMTTYPE=text/html:<p>Regatta für Optimisten B</p><p>Anmeldung, Check-in/Registrierung bitte in Manage2Sail vornehmen.</p><p><a href="https://www.manage2sail.com/de-DE/Club/Detail/d0e10bce-0403-4024-9bee-f845c641e1b9">Echinger Segel-Club e.V. manage2sail</a></p><p>Dort findest Du auch die Ausschreibung, Segelanweisung sowie die Ergebnisse nach der Regatta.</p>
LAST-MODIFIED:20240701T122315Z
SEQUENCE:18546868
LOCATION:Erholungsgebiet 3\, 82279 Eching am Ammersee\, Bayern\, Deutschland
GEO:48.07044075;11.11099184
X-LOCATION-DISPLAYNAME:Clubgelände
X-ACCESS:1
X-HITS:0
X-COLOR:cc3333
X-SHOW-END-TIME:0
END:VEVENT
BEGIN:VEVENT
DTSTART;VALUE=DATE:20240914
DTEND;VALUE=DATE:20240915
UID:0C4A44D1-7021-478D-B4E3-D57999AB175B
SUMMARY:Kaffeehaferl - Clubmeisterschaft 3. Tag
CREATED:20231129T202947Z
DTSTAMP:20231129T202947Z
URL:https://www.manage2sail.com/de-DE/event/d98c9608-d045-4dd7-aa5f-2ce57faa61e8#!/
DESCRIPTION:Yardstickregatta für Einrumpfboote und Katamarane\NRegatta der Ammersee Yardstickmeisterschaft\NESC-Clubmeisterschaft 3. Wettfahrttag\NMeldung und Ergebnisse über den link zu Manage2Sail:\NEchinger Segel-Club e.V. manage2sail
X-ALT-DESC;FMTTYPE=text/html:<p>Yardstickregatta für Einrumpfboote und Katamarane</p><p>Regatta der Ammersee Yardstickmeisterschaft</p><p>ESC-Clubmeisterschaft 3. Wettfahrttag</p><p>Meldung und Ergebnisse über den link zu Manage2Sail:</p><p><a href="https://www.manage2sail.com/de-DE/Club/Detail/d0e10bce-0403-4024-9bee-f845c641e1b9">Echinger Segel-Club e.V. manage2sail</a></p>
LAST-MODIFIED:20231129T202955Z
SEQUENCE:8
LOCATION:Erholungsgebiet 3\, 82279 Eching am Ammersee\, Bayern\, Deutschland
GEO:48.07044075;11.11099184
X-LOCATION-DISPLAYNAME:Clubgelände
X-ACCESS:1
X-HITS:0
X-COLOR:cc3333
X-SHOW-END-TIME:0
END:VEVENT
BEGIN:VEVENT
DTSTART;VALUE=DATE:20250510
DTEND;VALUE=DATE:20250511
UID:7D8655E4-617A-4772-B483-AAB0D4E978DB
SUMMARY:Frühjahrsregatta  alle Klassen (Clubmeister Tag  1)
CREATED:20241229T181257Z
DTSTAMP:20241229T181257Z
URL:https://www.esc-eching.de/termine/regatta-fruehjahrsregatta-alle-klassen-clubmeister-tag-1
DESCRIPTION:Anmeldung gemäß Ausschreibung in M2S:\NEchinger Segel-Club e.V. manage2sail\N 
X-ALT-DESC;FMTTYPE=text/html:<p>Anmeldung gemäß Ausschreibung in M2S:</p><p><a href="https://www.manage2sail.com/de-DE/Club/Detail/d0e10bce-0403-4024-9bee-f845c641e1b9">Echinger Segel-Club e.V. manage2sail</a></p><p> </p>
LAST-MODIFIED:20250104T144455Z
SEQUENCE:505918
X-ACCESS:1
X-HITS:0
X-COLOR:cc3333
X-SHOW-END-TIME:1
END:VEVENT
BEGIN:VEVENT
DTSTART;VALUE=DATE:20250510
DTEND;VALUE=DATE:20250512
UID:77D2CCC2-071E-4D4B-ACFD-8C03ECE31BEE
SUMMARY:Cat Auftakt Süd Dart 18 
CREATED:20241229T181257Z
DTSTAMP:20241229T181257Z
URL:https://www.esc-eching.de/termine/dart-18-klassenregatta-1-wettfahrttag
DESCRIPTION:Anmeldung gemäß Ausschreibung in M2S:\NEchinger Segel-Club e.V. manage2sail\N 
X-ALT-DESC;FMTTYPE=text/html:<p>Anmeldung gemäß Ausschreibung in M2S:</p><p><a href="https://www.manage2sail.com/de-DE/Club/Detail/d0e10bce-0403-4024-9bee-f845c641e1b9">Echinger Segel-Club e.V. manage2sail</a></p><p> </p>
LAST-MODIFIED:20250104T144337Z
SEQUENCE:505840
X-ACCESS:1
X-HITS:0
X-COLOR:cc3333
X-SHOW-END-TIME:1
END:VEVENT
BEGIN:VEVENT
DTSTART;TZID=UTC:20250530T100000
DTEND;TZID=UTC:20250531T170000
UID:B4CDBAE4-AB38-4A3F-B70C-AFD5ACD77574
SUMMARY:Ammersee-Cup der 16er JK
CREATED:20250104T145029Z
DTSTAMP:20250104T145029Z
URL:https://www.esc-eching.de/termine/ammersee-cup-der-16er-jk
DESCRIPTION:Anmeldung gemäß Ausschreibung in M2S:\NEchinger Segel-Club e.V. manage2sail\N 
X-ALT-DESC;FMTTYPE=text/html:<p>Anmeldung gemäß Ausschreibung in M2S:</p><p><a href="https://www.manage2sail.com/de-DE/Club/Detail/d0e10bce-0403-4024-9bee-f845c641e1b9">Echinger Segel-Club e.V. manage2sail</a></p><p> </p>
LAST-MODIFIED:20250105T131103Z
SEQUENCE:80434
X-ACCESS:1
X-HITS:0
X-COLOR:cc3333
X-SHOW-END-TIME:1
END:VEVENT
BEGIN:VEVENT
DTSTART;VALUE=DATE:20250622
DTEND;VALUE=DATE:20250623
UID:DC26CCC5-698E-4E94-A99C-8DFD9639E2B9
SUMMARY:Um die Wurst Regatta für alle Klassen (Clubmeister Tag 2)
CREATED:20241229T181257Z
DTSTAMP:20241229T181257Z
URL:https://www.esc-eching.de/termine/regatta-fruehjahrsregatta-alle-klassen-clubmeister-tag-2
DESCRIPTION:Anmeldung gemäß Ausschreibung in M2S:\NEchinger Segel-Club e.V. manage2sail\N 
X-ALT-DESC;FMTTYPE=text/html:<p>Anmeldung gemäß Ausschreibung in M2S:</p><p><a href="https://www.manage2sail.com/de-DE/Club/Detail/d0e10bce-0403-4024-9bee-f845c641e1b9">Echinger Segel-Club e.V. manage2sail</a></p><p> </p>
LAST-MODIFIED:20250104T144804Z
SEQUENCE:506107
LOCATION:Erholungsgebiet 3\, 82279 Eching am Ammersee\, Bayern\, Deutschland
GEO:48.07044075;11.11099184
X-LOCATION-DISPLAYNAME:Clubgelände
X-ACCESS:1
X-HITS:0
X-COLOR:cc3333
X-SHOW-END-TIME:1
END:VEVENT
BEGIN:VEVENT
DTSTART;VALUE=DATE:20250801
DTEND;VALUE=DATE:20250901
UID:15C4627A-6248-4E67-8773-4569E14171E1
SUMMARY:Summer Sailing Month (unter Vorbehalt)
CREATED:20241229T181257Z
DTSTAMP:20241229T181257Z
URL:https://www.esc-eching.de/termine/summer-sailing-month
DESCRIPTION:gemäß Ausschreibung
X-ALT-DESC;FMTTYPE=text/html:<p>gemäß Ausschreibung</p>
LAST-MODIFIED:20241229T182353Z
SEQUENCE:656
LOCATION:Erholungsgebiet 3\, 82279 Eching am Ammersee\, Bayern\, Deutschland
GEO:48.07044075;11.11099184
X-LOCATION-DISPLAYNAME:Clubgelände
X-ACCESS:1
X-HITS:0
X-COLOR:cc3333
X-SHOW-END-TIME:0
END:VEVENT
BEGIN:VEVENT
DTSTART;VALUE=DATE:20250802
DTEND;VALUE=DATE:20250804
UID:89BBC2CD-E3F3-47EA-8E48-FB6F75C6E66F
SUMMARY:43. Opti Wooling - Optimisten B,C
CREATED:20241229T181257Z
DTSTAMP:20241229T181257Z
URL:https://www.esc-eching.de/termine/43-opti-wooling-optimisten-b-c
DESCRIPTION:Anmeldung gemäß Ausschreibung in M2S:\NEchinger Segel-Club e.V. manage2sail\N 
X-ALT-DESC;FMTTYPE=text/html:<p>Anmeldung gemäß Ausschreibung in M2S:</p><p><a href="https://www.manage2sail.com/de-DE/Club/Detail/d0e10bce-0403-4024-9bee-f845c641e1b9">Echinger Segel-Club e.V. manage2sail</a></p><p> </p>
LAST-MODIFIED:20250104T145325Z
SEQUENCE:506428
LOCATION:Erholungsgebiet 3\, 82279 Eching am Ammersee\, Bayern\, Deutschland
GEO:48.07044075;11.11099184
X-LOCATION-DISPLAYNAME:Clubgelände
X-ACCESS:1
X-HITS:0
X-COLOR:cc3333
X-SHOW-END-TIME:0
END:VEVENT
BEGIN:VEVENT
DTSTART;VALUE=DATE:20250913
DTEND;VALUE=DATE:20250914
UID:CE45109F-1ACD-4C1C-BA48-F09EACC707B9
SUMMARY:Kaffeehaferl - Regatta alle Klassen (Clubmeister Tag 3)
CREATED:20241229T181257Z
DTSTAMP:20241229T181257Z
URL:https://www.esc-eching.de/termine/kaffeehaferl-regatta-alle-klassen-clubmeister-tag-3
DESCRIPTION:Anmeldung gemäß Ausschreibung in M2S:\NEchinger Segel-Club e.V. manage2sail\N 
X-ALT-DESC;FMTTYPE=text/html:<p>Anmeldung gemäß Ausschreibung in M2S:</p><p><a href="https://www.manage2sail.com/de-DE/Club/Detail/d0e10bce-0403-4024-9bee-f845c641e1b9">Echinger Segel-Club e.V. manage2sail</a></p><p> </p>
LAST-MODIFIED:20250104T145458Z
SEQUENCE:506521
LOCATION:Erholungsgebiet 3\, 82279 Eching am Ammersee\, Bayern\, Deutschland
GEO:48.07044075;11.11099184
X-LOCATION-DISPLAYNAME:Clubgelände
X-ACCESS:1
X-HITS:0
X-COLOR:cc3333
X-SHOW-END-TIME:1
END:VEVENT
BEGIN:VEVENT
DTSTART;VALUE=DATE:20260509
DTEND;VALUE=DATE:20260511
UID:63E2BFE0-DC4D-48DF-B608-D938FDBFA967
SUMMARY:Dart 18 Klassenregatta
CREATED:20241229T181257Z
DTSTAMP:20241229T181257Z
URL:https://www.manage2sail.com/de-DE/Club/Detail/d0e10bce-0403-4024-9bee-f845c641e1b9
DESCRIPTION:Anmeldung gemäß Ausschreibung in M2S:\NEchinger Segel-Club e.V. manage2sail\N 
X-ALT-DESC;FMTTYPE=text/html:<p>Anmeldung gemäß Ausschreibung in M2S:</p><p>Echinger Segel-Club e.V. <a href="https://www.manage2sail.com/de-DE/Club/Detail/d0e10bce-0403-4024-9bee-f845c641e1b9">manage2sail</a></p><p> </p>
LAST-MODIFIED:20260114T173244Z
SEQUENCE:32915987
LOCATION:Erholungsgebiet 3\, 82279 Eching am Ammersee\, Bayern\, Deutschland
GEO:48.07044075;11.11099184
X-LOCATION-DISPLAYNAME:Clubgelände
X-ACCESS:1
X-HITS:0
X-COLOR:cc3333
X-SHOW-END-TIME:1
END:VEVENT
BEGIN:VEVENT
DTSTART;VALUE=DATE:20260510
DTEND;VALUE=DATE:20260511
UID:1C028AD3-C51F-4361-83CC-E6B5227ADB46
SUMMARY:Frühjahrsregatta  alle Klassen (Clubmeister Tag  1)
CREATED:20241229T181257Z
DTSTAMP:20241229T181257Z
URL:https://www.manage2sail.com/de-DE/Club/Detail/d0e10bce-0403-4024-9bee-f845c641e1b9
DESCRIPTION:Anmeldung gemäß Ausschreibung in M2S:\NEchinger Segel-Club e.V. manage2sail\N 
X-ALT-DESC;FMTTYPE=text/html:<p>Anmeldung gemäß Ausschreibung in M2S:</p><p>Echinger Segel-Club e.V. <a href="https://www.manage2sail.com/de-DE/Club/Detail/d0e10bce-0403-4024-9bee-f845c641e1b9">manage2sail</a></p><p> </p>
LAST-MODIFIED:20260113T204255Z
SEQUENCE:32840998
X-ACCESS:1
X-HITS:0
X-COLOR:cc3333
X-SHOW-END-TIME:1
END:VEVENT
BEGIN:VEVENT
DTSTART;VALUE=DATE:20260621
DTEND;VALUE=DATE:20260622
UID:A8EA2E1B-BD3F-44E0-BAEC-0BACEA0BFE39
SUMMARY:Um die Wurst Regatta für alle Klassen (Clubmeister Tag 2)
CREATED:20241229T181257Z
DTSTAMP:20241229T181257Z
URL:https://www.manage2sail.com/de-DE/Club/Detail/d0e10bce-0403-4024-9bee-f845c641e1b9
DESCRIPTION:Anmeldung gemäß Ausschreibung in M2S:\NEchinger Segel-Club e.V. manage2sail\N 
X-ALT-DESC;FMTTYPE=text/html:<p>Anmeldung gemäß Ausschreibung in M2S:</p><p>Echinger Segel-Club e.V. <a href="https://www.manage2sail.com/de-DE/Club/Detail/d0e10bce-0403-4024-9bee-f845c641e1b9">manage2sail</a></p><p> </p>
LAST-MODIFIED:20260113T204334Z
SEQUENCE:32841037
LOCATION:Erholungsgebiet 3\, 82279 Eching am Ammersee\, Bayern\, Deutschland
GEO:48.07044075;11.11099184
X-LOCATION-DISPLAYNAME:Clubgelände
X-ACCESS:1
X-HITS:0
X-COLOR:cc3333
X-SHOW-END-TIME:1
END:VEVENT
BEGIN:VEVENT
DTSTART;VALUE=DATE:20260801
DTEND;VALUE=DATE:20260803
UID:8261A5B1-9394-43DB-B57E-7AFCAD0D9AA3
SUMMARY:44. Opti Wooling - Optimisten B,C
CREATED:20241229T181257Z
DTSTAMP:20241229T181257Z
URL:https://www.manage2sail.com/de-DE/Club/Detail/d0e10bce-0403-4024-9bee-f845c641e1b9
DESCRIPTION:Anmeldung gemäß Ausschreibung in M2S:\NEchinger Segel-Club e.V. manage2sail\N 
X-ALT-DESC;FMTTYPE=text/html:<p>Anmeldung gemäß Ausschreibung in M2S:</p><p><a href="https://www.manage2sail.com/de-DE/Club/Detail/d0e10bce-0403-4024-9bee-f845c641e1b9">Echinger Segel-Club e.V. manage2sail</a></p><p> </p>
LAST-MODIFIED:20260113T204042Z
SEQUENCE:32840865
LOCATION:Erholungsgebiet 3\, 82279 Eching am Ammersee\, Bayern\, Deutschland
GEO:48.07044075;11.11099184
X-LOCATION-DISPLAYNAME:Clubgelände
X-ACCESS:1
X-HITS:0
X-COLOR:cc3333
X-SHOW-END-TIME:0
END:VEVENT
BEGIN:VEVENT
DTSTART;VALUE=DATE:20260912
DTEND;VALUE=DATE:20260913
UID:717FA7B3-9D7F-4180-8F57-47B114A39532
SUMMARY:Kaffeehaferl - Regatta alle Klassen (Clubmeister Tag 3)
CREATED:20241229T181257Z
DTSTAMP:20241229T181257Z
URL:https://www.manage2sail.com/de-DE/Club/Detail/d0e10bce-0403-4024-9bee-f845c641e1b9
DESCRIPTION:Anmeldung gemäß Ausschreibung in M2S:\NEchinger Segel-Club e.V. manage2sail\N 
X-ALT-DESC;FMTTYPE=text/html:<p>Anmeldung gemäß Ausschreibung in M2S:</p><p><a href="https://www.manage2sail.com/de-DE/Club/Detail/d0e10bce-0403-4024-9bee-f845c641e1b9">Echinger Segel-Club e.V. manage2sail</a></p><p> </p>
LAST-MODIFIED:20260113T203924Z
SEQUENCE:32840787
LOCATION:Erholungsgebiet 3\, 82279 Eching am Ammersee\, Bayern\, Deutschland
GEO:48.07044075;11.11099184
X-LOCATION-DISPLAYNAME:Clubgelände
X-ACCESS:1
X-HITS:0
X-COLOR:cc3333
X-SHOW-END-TIME:1
END:VEVENT
BEGIN:VEVENT
DTSTART;VALUE=DATE:20260912
DTEND;VALUE=DATE:20260914
UID:EAA7B303-0B43-4403-AD83-268E61BC4130
SUMMARY:RS AERO Klassenregatta
CREATED:20241229T181257Z
DTSTAMP:20241229T181257Z
URL:https://www.manage2sail.com/de-DE/Club/Detail/d0e10bce-0403-4024-9bee-f845c641e1b9
DESCRIPTION:Anmeldung gemäß Ausschreibung in M2S:\NEchinger Segel-Club e.V. manage2sail\N 
X-ALT-DESC;FMTTYPE=text/html:<p>Anmeldung gemäß Ausschreibung in M2S:</p><p><a href="https://www.manage2sail.com/de-DE/Club/Detail/d0e10bce-0403-4024-9bee-f845c641e1b9">Echinger Segel-Club e.V. manage2sail</a></p><p> </p>
LAST-MODIFIED:20260113T204017Z
SEQUENCE:32840840
LOCATION:Erholungsgebiet 3\, 82279 Eching am Ammersee\, Bayern\, Deutschland
GEO:48.07044075;11.11099184
X-LOCATION-DISPLAYNAME:Clubgelände
X-ACCESS:1
X-HITS:0
X-COLOR:cc3333
X-SHOW-END-TIME:1
END:VEVENT
END:VCALENDAR